Workbook

Sheet ΑΠΑΝΤΗΣΕΙΣ
A1: Α/Α | B1: ΟΝΟΜΑ/ΚΩΔΙΚΟΣ | C1: ΦΥΛΟ | D1: ΤΑΞΗ | E1: ΑΚΟΛΟΥΘΙΑ | K1: ΒΡΟΧΟΣ | W1: ΣΥΝΘΗΚΗ
K2: ΑΠΛΟΣ | P2: ΦΩΛΙΑΣΜΕΝΟΣ | W2: ΑΝ-ΤΟΤΕ | Y2: ΑΝ-ΤΟΤΕ-ΑΛΛΙΩΣ | AB2: ΟΣΟ
E3: A1 | F3: A2 | G3: A3 | H3: A4 | I3: A5 | J3: A6 | K3: B7 | L3: B8 | M3: B9 | N3: B10 | O3: B11 | P3: C12 | Q3: C13 | R3: C14 | S3: C15 | T3: C16 | U3: C17 | V3: C18 | W3: D19 | X3: D20 | Y3: E21 | Z3: E22 | AA3: F23 | AB3: F24 | AC3: F25
A4: 1
A5: 2
A6: 3
A7: 4
A8: 5
A9: 6
A10: 7
A11: 8
A12: 9
A13: 10
A14: 11
A15: 12
... A2003: 2000

Sheet ΚΩΔΙΚΟΠΟΙΗΣΗ
A1: Α/Α | B1: ΟΝΟΜΑ/ΚΩΔΙΚΟΣ | C1: ΦΥΛΟ | D1: ΤΑΞΗ | E1: ΑΚΟΛΟΥΘΙΑ | K1: ΒΡΟΧΟΣ | W1: ΣΥΝΘΗΚΗ
K2: ΑΠΛΟΣ | P2: ΦΩΛΙΑΣΜΕΝΟΣ | W2: ΑΝ-ΤΟΤΕ | Y2: ΑΝ-ΤΟΤΕ-ΑΛΛΙΩΣ | AB2: ΟΣΟ | AI2: ΒΡΟΧΟΣ | AL2: ΣΥΝΘΗΚΗ
E3: A1 | F3: A2 | G3: A3 | H3: A4 | I3: A5 | J3: A6 | K3: B7 | L3: B8 | M3: B9 | N3: B10 | O3: B11 | P3: C12 | Q3: C13 | R3: C14 | S3: C15 | T3: C16 | U3: C17 | V3: C18 | W3: D19 | X3: D20 | Y3: E21 | Z3: E22 | AA3: F23 | AB3: F24 | AC3: F25 | AD3: ΣΥΝΟΛΙΚΟ ΣΚΟΡ | AE3: ΑΚΟΛΟΥΘΙΑ | AF3: ΒΡΟΧΟΣ | AG3: ΣΥΝΘΗΚΗ | AI3: ΑΠΛΟΣ | AJ3: ΦΩΛΙΑΣΜΕΝΟΣ | AL3: ΑΝ-ΤΟΤΕ | AM3: ΑΝ-ΤΟΤΕ-ΑΛΛΙΩΣ | AN3: ΟΣΟ
A4: 1 | B4: =ΑΠΑΝΤΗΣΕΙΣ!B4 -> 0 | C4: =IF(ΑΠΑΝΤΗΣΕΙΣ!C4="ΑΓΟΡΙ",1,0) -> 0 | D4: =IF(ΑΠΑΝΤΗΣΕΙΣ!D4="Α'",1,IF(ΑΠΑΝΤΗΣΕΙΣ!D4="Β'",2,IF(ΑΠΑΝΤΗΣΕΙΣ!D4="Γ'",3,IF(ΑΠΑΝΤΗΣΕΙΣ!D4="Δ'",4,"")))) | E4: =IF(ΑΠΑΝΤΗΣΕΙΣ!E4="Α",1,0) -> 0 | F4: =IF(ΑΠΑΝΤΗΣΕΙΣ!F4="Δ",1,0) -> 0 | G4: =IF(ΑΠΑΝΤΗΣΕΙΣ!G4="Γ",1,0) -> 0 | H4: =IF(ΑΠΑΝΤΗΣΕΙΣ!H4="Β",1,0) -> 0 | I4: =IF(ΑΠΑΝΤΗΣΕΙΣ!I4="Β",1,0) -> 0 | J4: =IF(ΑΠΑΝΤΗΣΕΙΣ!J4="Δ",1,0) -> 0 | K4: =IF(ΑΠΑΝΤΗΣΕΙΣ!K4="Β",1,0) -> 0 | L4: =IF(ΑΠΑΝΤΗΣΕΙΣ!L4="Α",1,0) -> 0 | M4: =IF(ΑΠΑΝΤΗΣΕΙΣ!M4="Δ",1,0) -> 0 | N4: =IF(ΑΠΑΝΤΗΣΕΙΣ!N4="Γ",1,0) -> 0 | O4: =IF(ΑΠΑΝΤΗΣΕΙΣ!O4="Β",1,0) -> 0 | P4: =IF(ΑΠΑΝΤΗΣΕΙΣ!P4="Α",1,0) -> 0 | Q4: =IF(ΑΠΑΝΤΗΣΕΙΣ!Q4="Γ",1,0) -> 0 | R4: =IF(ΑΠΑΝΤΗΣΕΙΣ!R4="Β",1,0) -> 0 | S4: =IF(ΑΠΑΝΤΗΣΕΙΣ!S4="Γ",1,0) -> 0 | T4: =IF(ΑΠΑΝΤΗΣΕΙΣ!T4="Δ",1,0) -> 0 | U4: =IF(ΑΠΑΝΤΗΣΕΙΣ!U4="Α",1,0) -> 0 | V4: =IF(ΑΠΑΝΤΗΣΕΙΣ!V4="Γ",1,0) -> 0 | W4: =IF(ΑΠΑΝΤΗΣΕΙΣ!W4="Α",1,0) -> 0 | X4: =IF(ΑΠΑΝΤΗΣΕΙΣ!X4="Γ",1,0) -> 0 | Y4: =IF(ΑΠΑΝΤΗΣΕΙΣ!Y4="Δ",1,0) -> 0 | Z4: =IF(ΑΠΑΝΤΗΣΕΙΣ!Z4="Β",1,0) -> 0 | AA4: =IF(ΑΠΑΝΤΗΣΕΙΣ!AA4="Α",1,0) -> 0 | AB4: =IF(ΑΠΑΝΤΗΣΕΙΣ!AB4="Β",1,0) -> 0 | AC4: =IF(ΑΠΑΝΤΗΣΕΙΣ!AC4="Γ",1,0) -> 0 | AD4: =SUM(E4:AC4) -> 0 | AE4: =SUM(E4:J4) -> 0 | AF4: =SUM(K4:V4) -> 0 | AG4: =SUM(W4:AC4) -> 0 | AI4: =SUM(K4:O4) -> 0 | AJ4: =SUM(P4:V4) -> 0 | AL4: =SUM(W4:X4) -> 0 | AM4: =SUM(Y4:AA4) -> 0 | AN4: =SUM(AB4:AC4) -> 0
A5: 2 | B5: =ΑΠΑΝΤΗΣΕΙΣ!B5 -> 0 | C5: =IF(ΑΠΑΝΤΗΣΕΙΣ!C5="ΑΓΟΡΙ",1,0) -> 0 | D5: =IF(ΑΠΑΝΤΗΣΕΙΣ!D5="Α'",1,IF(ΑΠΑΝΤΗΣΕΙΣ!D5="Β'",2,IF(ΑΠΑΝΤΗΣΕΙΣ!D5="Γ'",3,IF(ΑΠΑΝΤΗΣΕΙΣ!D5="Δ'",4,"")))) | E5: =IF(ΑΠΑΝΤΗΣΕΙΣ!E5="Α",1,0) -> 0 | F5: =IF(ΑΠΑΝΤΗΣΕΙΣ!F5="Δ",1,0) -> 0 | G5: =IF(ΑΠΑΝΤΗΣΕΙΣ!G5="Γ",1,0) -> 0 | H5: =IF(ΑΠΑΝΤΗΣΕΙΣ!H5="Β",1,0) -> 0 | I5: =IF(ΑΠΑΝΤΗΣΕΙΣ!I5="Β",1,0) -> 0 | J5: =IF(ΑΠΑΝΤΗΣΕΙΣ!J5="Δ",1,0) -> 0 | K5: =IF(ΑΠΑΝΤΗΣΕΙΣ!K5="Β",1,0) -> 0 | L5: =IF(ΑΠΑΝΤΗΣΕΙΣ!L5="Α",1,0) -> 0 | M5: =IF(ΑΠΑΝΤΗΣΕΙΣ!M5="Δ",1,0) -> 0 | N5: =IF(ΑΠΑΝΤΗΣΕΙΣ!N5="Γ",1,0) -> 0 | O5: =IF(ΑΠΑΝΤΗΣΕΙΣ!O5="Β",1,0) -> 0 | P5: =IF(ΑΠΑΝΤΗΣΕΙΣ!P5="Α",1,0) -> 0 | Q5: =IF(ΑΠΑΝΤΗΣΕΙΣ!Q5="Γ",1,0) -> 0 | R5: =IF(ΑΠΑΝΤΗΣΕΙΣ!R5="Β",1,0) -> 0 | S5: =IF(ΑΠΑΝΤΗΣΕΙΣ!S5="Γ",1,0) -> 0 | T5: =IF(ΑΠΑΝΤΗΣΕΙΣ!T5="Δ",1,0) -> 0 | U5: =IF(ΑΠΑΝΤΗΣΕΙΣ!U5="Α",1,0) -> 0 | V5: =IF(ΑΠΑΝΤΗΣΕΙΣ!V5="Γ",1,0) -> 0 | W5: =IF(ΑΠΑΝΤΗΣΕΙΣ!W5="Α",1,0) -> 0 | X5: =IF(ΑΠΑΝΤΗΣΕΙΣ!X5="Γ",1,0) -> 0 | Y5: =IF(ΑΠΑΝΤΗΣΕΙΣ!Y5="Δ",1,0) -> 0 | Z5: =IF(ΑΠΑΝΤΗΣΕΙΣ!Z5="Β",1,0) -> 0 | AA5: =IF(ΑΠΑΝΤΗΣΕΙΣ!AA5="Α",1,0) -> 0 | AB5: =IF(ΑΠΑΝΤΗΣΕΙΣ!AB5="Β",1,0) -> 0 | AC5: =IF(ΑΠΑΝΤΗΣΕΙΣ!AC5="Γ",1,0) -> 0 | AD5: =SUM(E5:AC5) -> 0 | AE5: =SUM(E5:J5) -> 0 | AF5: =SUM(K5:V5) -> 0 | AG5: =SUM(W5:AC5) -> 0 | AI5: =SUM(K5:O5) -> 0 | AJ5: =SUM(P5:V5) -> 0 | AL5: =SUM(W5:X5) -> 0 | AM5: =SUM(Y5:AA5) -> 0 | AN5: =SUM(AB5:AC5) -> 0
A6: 3 | B6: =ΑΠΑΝΤΗΣΕΙΣ!B6 -> 0 | C6: =IF(ΑΠΑΝΤΗΣΕΙΣ!C6="ΑΓΟΡΙ",1,0) -> 0 | D6: =IF(ΑΠΑΝΤΗΣΕΙΣ!D6="Α'",1,IF(ΑΠΑΝΤΗΣΕΙΣ!D6="Β'",2,IF(ΑΠΑΝΤΗΣΕΙΣ!D6="Γ'",3,IF(ΑΠΑΝΤΗΣΕΙΣ!D6="Δ'",4,"")))) | E6: =IF(ΑΠΑΝΤΗΣΕΙΣ!E6="Α",1,0) -> 0 | F6: =IF(ΑΠΑΝΤΗΣΕΙΣ!F6="Δ",1,0) -> 0 | G6: =IF(ΑΠΑΝΤΗΣΕΙΣ!G6="Γ",1,0) -> 0 | H6: =IF(ΑΠΑΝΤΗΣΕΙΣ!H6="Β",1,0) -> 0 | I6: =IF(ΑΠΑΝΤΗΣΕΙΣ!I6="Β",1,0) -> 0 | J6: =IF(ΑΠΑΝΤΗΣΕΙΣ!J6="Δ",1,0) -> 0 | K6: =IF(ΑΠΑΝΤΗΣΕΙΣ!K6="Β",1,0) -> 0 | L6: =IF(ΑΠΑΝΤΗΣΕΙΣ!L6="Α",1,0) -> 0 | M6: =IF(ΑΠΑΝΤΗΣΕΙΣ!M6="Δ",1,0) -> 0 | N6: =IF(ΑΠΑΝΤΗΣΕΙΣ!N6="Γ",1,0) -> 0 | O6: =IF(ΑΠΑΝΤΗΣΕΙΣ!O6="Β",1,0) -> 0 | P6: =IF(ΑΠΑΝΤΗΣΕΙΣ!P6="Α",1,0) -> 0 | Q6: =IF(ΑΠΑΝΤΗΣΕΙΣ!Q6="Γ",1,0) -> 0 | R6: =IF(ΑΠΑΝΤΗΣΕΙΣ!R6="Β",1,0) -> 0 | S6: =IF(ΑΠΑΝΤΗΣΕΙΣ!S6="Γ",1,0) -> 0 | T6: =IF(ΑΠΑΝΤΗΣΕΙΣ!T6="Δ",1,0) -> 0 | U6: =IF(ΑΠΑΝΤΗΣΕΙΣ!U6="Α",1,0) -> 0 | V6: =IF(ΑΠΑΝΤΗΣΕΙΣ!V6="Γ",1,0) -> 0 | W6: =IF(ΑΠΑΝΤΗΣΕΙΣ!W6="Α",1,0) -> 0 | X6: =IF(ΑΠΑΝΤΗΣΕΙΣ!X6="Γ",1,0) -> 0 | Y6: =IF(ΑΠΑΝΤΗΣΕΙΣ!Y6="Δ",1,0) -> 0 | Z6: =IF(ΑΠΑΝΤΗΣΕΙΣ!Z6="Β",1,0) -> 0 | AA6: =IF(ΑΠΑΝΤΗΣΕΙΣ!AA6="Α",1,0) -> 0 | AB6: =IF(ΑΠΑΝΤΗΣΕΙΣ!AB6="Β",1,0) -> 0 | AC6: =IF(ΑΠΑΝΤΗΣΕΙΣ!AC6="Γ",1,0) -> 0 | AD6: =SUM(E6:AC6) -> 0 | AE6: =SUM(E6:J6) -> 0 | AF6: =SUM(K6:V6) -> 0 | AG6: =SUM(W6:AC6) -> 0 | AI6: =SUM(K6:O6) -> 0 | AJ6: =SUM(P6:V6) -> 0 | AL6: =SUM(W6:X6) -> 0 | AM6: =SUM(Y6:AA6) -> 0 | AN6: =SUM(AB6:AC6) -> 0
A7: 4 | B7: =ΑΠΑΝΤΗΣΕΙΣ!B7 -> 0 | C7: =IF(ΑΠΑΝΤΗΣΕΙΣ!C7="ΑΓΟΡΙ",1,0) -> 0 | D7: =IF(ΑΠΑΝΤΗΣΕΙΣ!D7="Α'",1,IF(ΑΠΑΝΤΗΣΕΙΣ!D7="Β'",2,IF(ΑΠΑΝΤΗΣΕΙΣ!D7="Γ'",3,IF(ΑΠΑΝΤΗΣΕΙΣ!D7="Δ'",4,"")))) | E7: =IF(ΑΠΑΝΤΗΣΕΙΣ!E7="Α",1,0) -> 0 | F7: =IF(ΑΠΑΝΤΗΣΕΙΣ!F7="Δ",1,0) -> 0 | G7: =IF(ΑΠΑΝΤΗΣΕΙΣ!G7="Γ",1,0) -> 0 | H7: =IF(ΑΠΑΝΤΗΣΕΙΣ!H7="Β",1,0) -> 0 | I7: =IF(ΑΠΑΝΤΗΣΕΙΣ!I7="Β",1,0) -> 0 | J7: =IF(ΑΠΑΝΤΗΣΕΙΣ!J7="Δ",1,0) -> 0 | K7: =IF(ΑΠΑΝΤΗΣΕΙΣ!K7="Β",1,0) -> 0 | L7: =IF(ΑΠΑΝΤΗΣΕΙΣ!L7="Α",1,0) -> 0 | M7: =IF(ΑΠΑΝΤΗΣΕΙΣ!M7="Δ",1,0) -> 0 | N7: =IF(ΑΠΑΝΤΗΣΕΙΣ!N7="Γ",1,0) -> 0 | O7: =IF(ΑΠΑΝΤΗΣΕΙΣ!O7="Β",1,0) -> 0 | P7: =IF(ΑΠΑΝΤΗΣΕΙΣ!P7="Α",1,0) -> 0 | Q7: =IF(ΑΠΑΝΤΗΣΕΙΣ!Q7="Γ",1,0) -> 0 | R7: =IF(ΑΠΑΝΤΗΣΕΙΣ!R7="Β",1,0) -> 0 | S7: =IF(ΑΠΑΝΤΗΣΕΙΣ!S7="Γ",1,0) -> 0 | T7: =IF(ΑΠΑΝΤΗΣΕΙΣ!T7="Δ",1,0) -> 0 | U7: =IF(ΑΠΑΝΤΗΣΕΙΣ!U7="Α",1,0) -> 0 | V7: =IF(ΑΠΑΝΤΗΣΕΙΣ!V7="Γ",1,0) -> 0 | W7: =IF(ΑΠΑΝΤΗΣΕΙΣ!W7="Α",1,0) -> 0 | X7: =IF(ΑΠΑΝΤΗΣΕΙΣ!X7="Γ",1,0) -> 0 | Y7: =IF(ΑΠΑΝΤΗΣΕΙΣ!Y7="Δ",1,0) -> 0 | Z7: =IF(ΑΠΑΝΤΗΣΕΙΣ!Z7="Β",1,0) -> 0 | AA7: =IF(ΑΠΑΝΤΗΣΕΙΣ!AA7="Α",1,0) -> 0 | AB7: =IF(ΑΠΑΝΤΗΣΕΙΣ!AB7="Β",1,0) -> 0 | AC7: =IF(ΑΠΑΝΤΗΣΕΙΣ!AC7="Γ",1,0) -> 0 | AD7: =SUM(E7:AC7) -> 0 | AE7: =SUM(E7:J7) -> 0 | AF7: =SUM(K7:V7) -> 0 | AG7: =SUM(W7:AC7) -> 0 | AI7: =SUM(K7:O7) -> 0 | AJ7: =SUM(P7:V7) -> 0 | AL7: =SUM(W7:X7) -> 0 | AM7: =SUM(Y7:AA7) -> 0 | AN7: =SUM(AB7:AC7) -> 0
A8: 5 | B8: =ΑΠΑΝΤΗΣΕΙΣ!B8 -> 0 | C8: =IF(ΑΠΑΝΤΗΣΕΙΣ!C8="ΑΓΟΡΙ",1,0) -> 0 | D8: =IF(ΑΠΑΝΤΗΣΕΙΣ!D8="Α'",1,IF(ΑΠΑΝΤΗΣΕΙΣ!D8="Β'",2,IF(ΑΠΑΝΤΗΣΕΙΣ!D8="Γ'",3,IF(ΑΠΑΝΤΗΣΕΙΣ!D8="Δ'",4,"")))) | E8: =IF(ΑΠΑΝΤΗΣΕΙΣ!E8="Α",1,0) -> 0 | F8: =IF(ΑΠΑΝΤΗΣΕΙΣ!F8="Δ",1,0) -> 0 | G8: =IF(ΑΠΑΝΤΗΣΕΙΣ!G8="Γ",1,0) -> 0 | H8: =IF(ΑΠΑΝΤΗΣΕΙΣ!H8="Β",1,0) -> 0 | I8: =IF(ΑΠΑΝΤΗΣΕΙΣ!I8="Β",1,0) -> 0 | J8: =IF(ΑΠΑΝΤΗΣΕΙΣ!J8="Δ",1,0) -> 0 | K8: =IF(ΑΠΑΝΤΗΣΕΙΣ!K8="Β",1,0) -> 0 | L8: =IF(ΑΠΑΝΤΗΣΕΙΣ!L8="Α",1,0) -> 0 | M8: =IF(ΑΠΑΝΤΗΣΕΙΣ!M8="Δ",1,0) -> 0 | N8: =IF(ΑΠΑΝΤΗΣΕΙΣ!N8="Γ",1,0) -> 0 | O8: =IF(ΑΠΑΝΤΗΣΕΙΣ!O8="Β",1,0) -> 0 | P8: =IF(ΑΠΑΝΤΗΣΕΙΣ!P8="Α",1,0) -> 0 | Q8: =IF(ΑΠΑΝΤΗΣΕΙΣ!Q8="Γ",1,0) -> 0 | R8: =IF(ΑΠΑΝΤΗΣΕΙΣ!R8="Β",1,0) -> 0 | S8: =IF(ΑΠΑΝΤΗΣΕΙΣ!S8="Γ",1,0) -> 0 | T8: =IF(ΑΠΑΝΤΗΣΕΙΣ!T8="Δ",1,0) -> 0 | U8: =IF(ΑΠΑΝΤΗΣΕΙΣ!U8="Α",1,0) -> 0 | V8: =IF(ΑΠΑΝΤΗΣΕΙΣ!V8="Γ",1,0) -> 0 | W8: =IF(ΑΠΑΝΤΗΣΕΙΣ!W8="Α",1,0) -> 0 | X8: =IF(ΑΠΑΝΤΗΣΕΙΣ!X8="Γ",1,0) -> 0 | Y8: =IF(ΑΠΑΝΤΗΣΕΙΣ!Y8="Δ",1,0) -> 0 | Z8: =IF(ΑΠΑΝΤΗΣΕΙΣ!Z8="Β",1,0) -> 0 | AA8: =IF(ΑΠΑΝΤΗΣΕΙΣ!AA8="Α",1,0) -> 0 | AB8: =IF(ΑΠΑΝΤΗΣΕΙΣ!AB8="Β",1,0) -> 0 | AC8: =IF(ΑΠΑΝΤΗΣΕΙΣ!AC8="Γ",1,0) -> 0 | AD8: =SUM(E8:AC8) -> 0 | AE8: =SUM(E8:J8) -> 0 | AF8: =SUM(K8:V8) -> 0 | AG8: =SUM(W8:AC8) -> 0 | AI8: =SUM(K8:O8) -> 0 | AJ8: =SUM(P8:V8) -> 0 | AL8: =SUM(W8:X8) -> 0 | AM8: =SUM(Y8:AA8) -> 0 | AN8: =SUM(AB8:AC8) -> 0
A9: 6 | B9: =ΑΠΑΝΤΗΣΕΙΣ!B9 -> 0 | C9: =IF(ΑΠΑΝΤΗΣΕΙΣ!C9="ΑΓΟΡΙ",1,0) -> 0 | D9: =IF(ΑΠΑΝΤΗΣΕΙΣ!D9="Α'",1,IF(ΑΠΑΝΤΗΣΕΙΣ!D9="Β'",2,IF(ΑΠΑΝΤΗΣΕΙΣ!D9="Γ'",3,IF(ΑΠΑΝΤΗΣΕΙΣ!D9="Δ'",4,"")))) | E9: =IF(ΑΠΑΝΤΗΣΕΙΣ!E9="Α",1,0) -> 0 | F9: =IF(ΑΠΑΝΤΗΣΕΙΣ!F9="Δ",1,0) -> 0 | G9: =IF(ΑΠΑΝΤΗΣΕΙΣ!G9="Γ",1,0) -> 0 | H9: =IF(ΑΠΑΝΤΗΣΕΙΣ!H9="Β",1,0) -> 0 | I9: =IF(ΑΠΑΝΤΗΣΕΙΣ!I9="Β",1,0) -> 0 | J9: =IF(ΑΠΑΝΤΗΣΕΙΣ!J9="Δ",1,0) -> 0 | K9: =IF(ΑΠΑΝΤΗΣΕΙΣ!K9="Β",1,0) -> 0 | L9: =IF(ΑΠΑΝΤΗΣΕΙΣ!L9="Α",1,0) -> 0 | M9: =IF(ΑΠΑΝΤΗΣΕΙΣ!M9="Δ",1,0) -> 0 | N9: =IF(ΑΠΑΝΤΗΣΕΙΣ!N9="Γ",1,0) -> 0 | O9: =IF(ΑΠΑΝΤΗΣΕΙΣ!O9="Β",1,0) -> 0 | P9: =IF(ΑΠΑΝΤΗΣΕΙΣ!P9="Α",1,0) -> 0 | Q9: =IF(ΑΠΑΝΤΗΣΕΙΣ!Q9="Γ",1,0) -> 0 | R9: =IF(ΑΠΑΝΤΗΣΕΙΣ!R9="Β",1,0) -> 0 | S9: =IF(ΑΠΑΝΤΗΣΕΙΣ!S9="Γ",1,0) -> 0 | T9: =IF(ΑΠΑΝΤΗΣΕΙΣ!T9="Δ",1,0) -> 0 | U9: =IF(ΑΠΑΝΤΗΣΕΙΣ!U9="Α",1,0) -> 0 | V9: =IF(ΑΠΑΝΤΗΣΕΙΣ!V9="Γ",1,0) -> 0 | W9: =IF(ΑΠΑΝΤΗΣΕΙΣ!W9="Α",1,0) -> 0 | X9: =IF(ΑΠΑΝΤΗΣΕΙΣ!X9="Γ",1,0) -> 0 | Y9: =IF(ΑΠΑΝΤΗΣΕΙΣ!Y9="Δ",1,0) -> 0 | Z9: =IF(ΑΠΑΝΤΗΣΕΙΣ!Z9="Β",1,0) -> 0 | AA9: =IF(ΑΠΑΝΤΗΣΕΙΣ!AA9="Α",1,0) -> 0 | AB9: =IF(ΑΠΑΝΤΗΣΕΙΣ!AB9="Β",1,0) -> 0 | AC9: =IF(ΑΠΑΝΤΗΣΕΙΣ!AC9="Γ",1,0) -> 0 | AD9: =SUM(E9:AC9) -> 0 | AE9: =SUM(E9:J9) -> 0 | AF9: =SUM(K9:V9) -> 0 | AG9: =SUM(W9:AC9) -> 0 | AI9: =SUM(K9:O9) -> 0 | AJ9: =SUM(P9:V9) -> 0 | AL9: =SUM(W9:X9) -> 0 | AM9: =SUM(Y9:AA9) -> 0 | AN9: =SUM(AB9:AC9) -> 0
A10: 7 | B10: =ΑΠΑΝΤΗΣΕΙΣ!B10 -> 0 | C10: =IF(ΑΠΑΝΤΗΣΕΙΣ!C10="ΑΓΟΡΙ",1,0) -> 0 | D10: =IF(ΑΠΑΝΤΗΣΕΙΣ!D10="Α'",1,IF(ΑΠΑΝΤΗΣΕΙΣ!D10="Β'",2,IF(ΑΠΑΝΤΗΣΕΙΣ!D10="Γ'",3,IF(ΑΠΑΝΤΗΣΕΙΣ!D10="Δ'",4,"")))) | E10: =IF(ΑΠΑΝΤΗΣΕΙΣ!E10="Α",1,0) -> 0 | F10: =IF(ΑΠΑΝΤΗΣΕΙΣ!F10="Δ",1,0) -> 0 | G10: =IF(ΑΠΑΝΤΗΣΕΙΣ!G10="Γ",1,0) -> 0 | H10: =IF(ΑΠΑΝΤΗΣΕΙΣ!H10="Β",1,0) -> 0 | I10: =IF(ΑΠΑΝΤΗΣΕΙΣ!I10="Β",1,0) -> 0 | J10: =IF(ΑΠΑΝΤΗΣΕΙΣ!J10="Δ",1,0) -> 0 | K10: =IF(ΑΠΑΝΤΗΣΕΙΣ!K10="Β",1,0) -> 0 | L10: =IF(ΑΠΑΝΤΗΣΕΙΣ!L10="Α",1,0) -> 0 | M10: =IF(ΑΠΑΝΤΗΣΕΙΣ!M10="Δ",1,0) -> 0 | N10: =IF(ΑΠΑΝΤΗΣΕΙΣ!N10="Γ",1,0) -> 0 | O10: =IF(ΑΠΑΝΤΗΣΕΙΣ!O10="Β",1,0) -> 0 | P10: =IF(ΑΠΑΝΤΗΣΕΙΣ!P10="Α",1,0) -> 0 | Q10: =IF(ΑΠΑΝΤΗΣΕΙΣ!Q10="Γ",1,0) -> 0 | R10: =IF(ΑΠΑΝΤΗΣΕΙΣ!R10="Β",1,0) -> 0 | S10: =IF(ΑΠΑΝΤΗΣΕΙΣ!S10="Γ",1,0) -> 0 | T10: =IF(ΑΠΑΝΤΗΣΕΙΣ!T10="Δ",1,0) -> 0 | U10: =IF(ΑΠΑΝΤΗΣΕΙΣ!U10="Α",1,0) -> 0 | V10: =IF(ΑΠΑΝΤΗΣΕΙΣ!V10="Γ",1,0) -> 0 | W10: =IF(ΑΠΑΝΤΗΣΕΙΣ!W10="Α",1,0) -> 0 | X10: =IF(ΑΠΑΝΤΗΣΕΙΣ!X10="Γ",1,0) -> 0 | Y10: =IF(ΑΠΑΝΤΗΣΕΙΣ!Y10="Δ",1,0) -> 0 | Z10: =IF(ΑΠΑΝΤΗΣΕΙΣ!Z10="Β",1,0) -> 0 | AA10: =IF(ΑΠΑΝΤΗΣΕΙΣ!AA10="Α",1,0) -> 0 | AB10: =IF(ΑΠΑΝΤΗΣΕΙΣ!AB10="Β",1,0) -> 0 | AC10: =IF(ΑΠΑΝΤΗΣΕΙΣ!AC10="Γ",1,0) -> 0 | AD10: =SUM(E10:AC10) -> 0 | AE10: =SUM(E10:J10) -> 0 | AF10: =SUM(K10:V10) -> 0 | AG10: =SUM(W10:AC10) -> 0 | AI10: =SUM(K10:O10) -> 0 | AJ10: =SUM(P10:V10) -> 0 | AL10: =SUM(W10:X10) -> 0 | AM10: =SUM(Y10:AA10) -> 0 | AN10: =SUM(AB10:AC10) -> 0
A11: 8 | B11: =ΑΠΑΝΤΗΣΕΙΣ!B11 -> 0 | C11: =IF(ΑΠΑΝΤΗΣΕΙΣ!C11="ΑΓΟΡΙ",1,0) -> 0 | D11: =IF(ΑΠΑΝΤΗΣΕΙΣ!D11="Α'",1,IF(ΑΠΑΝΤΗΣΕΙΣ!D11="Β'",2,IF(ΑΠΑΝΤΗΣΕΙΣ!D11="Γ'",3,IF(ΑΠΑΝΤΗΣΕΙΣ!D11="Δ'",4,"")))) | E11: =IF(ΑΠΑΝΤΗΣΕΙΣ!E11="Α",1,0) -> 0 | F11: =IF(ΑΠΑΝΤΗΣΕΙΣ!F11="Δ",1,0) -> 0 | G11: =IF(ΑΠΑΝΤΗΣΕΙΣ!G11="Γ",1,0) -> 0 | H11: =IF(ΑΠΑΝΤΗΣΕΙΣ!H11="Β",1,0) -> 0 | I11: =IF(ΑΠΑΝΤΗΣΕΙΣ!I11="Β",1,0) -> 0 | J11: =IF(ΑΠΑΝΤΗΣΕΙΣ!J11="Δ",1,0) -> 0 | K11: =IF(ΑΠΑΝΤΗΣΕΙΣ!K11="Β",1,0) -> 0 | L11: =IF(ΑΠΑΝΤΗΣΕΙΣ!L11="Α",1,0) -> 0 | M11: =IF(ΑΠΑΝΤΗΣΕΙΣ!M11="Δ",1,0) -> 0 | N11: =IF(ΑΠΑΝΤΗΣΕΙΣ!N11="Γ",1,0) -> 0 | O11: =IF(ΑΠΑΝΤΗΣΕΙΣ!O11="Β",1,0) -> 0 | P11: =IF(ΑΠΑΝΤΗΣΕΙΣ!P11="Α",1,0) -> 0 | Q11: =IF(ΑΠΑΝΤΗΣΕΙΣ!Q11="Γ",1,0) -> 0 | R11: =IF(ΑΠΑΝΤΗΣΕΙΣ!R11="Β",1,0) -> 0 | S11: =IF(ΑΠΑΝΤΗΣΕΙΣ!S11="Γ",1,0) -> 0 | T11: =IF(ΑΠΑΝΤΗΣΕΙΣ!T11="Δ",1,0) -> 0 | U11: =IF(ΑΠΑΝΤΗΣΕΙΣ!U11="Α",1,0) -> 0 | V11: =IF(ΑΠΑΝΤΗΣΕΙΣ!V11="Γ",1,0) -> 0 | W11: =IF(ΑΠΑΝΤΗΣΕΙΣ!W11="Α",1,0) -> 0 | X11: =IF(ΑΠΑΝΤΗΣΕΙΣ!X11="Γ",1,0) -> 0 | Y11: =IF(ΑΠΑΝΤΗΣΕΙΣ!Y11="Δ",1,0) -> 0 | Z11: =IF(ΑΠΑΝΤΗΣΕΙΣ!Z11="Β",1,0) -> 0 | AA11: =IF(ΑΠΑΝΤΗΣΕΙΣ!AA11="Α",1,0) -> 0 | AB11: =IF(ΑΠΑΝΤΗΣΕΙΣ!AB11="Β",1,0) -> 0 | AC11: =IF(ΑΠΑΝΤΗΣΕΙΣ!AC11="Γ",1,0) -> 0 | AD11: =SUM(E11:AC11) -> 0 | AE11: =SUM(E11:J11) -> 0 | AF11: =SUM(K11:V11) -> 0 | AG11: =SUM(W11:AC11) -> 0 | AI11: =SUM(K11:O11) -> 0 | AJ11: =SUM(P11:V11) -> 0 | AL11: =SUM(W11:X11) -> 0 | AM11: =SUM(Y11:AA11) -> 0 | AN11: =SUM(AB11:AC11) -> 0
A12: 9 | B12: =ΑΠΑΝΤΗΣΕΙΣ!B12 -> 0 | C12: =IF(ΑΠΑΝΤΗΣΕΙΣ!C12="ΑΓΟΡΙ",1,0) -> 0 | D12: =IF(ΑΠΑΝΤΗΣΕΙΣ!D12="Α'",1,IF(ΑΠΑΝΤΗΣΕΙΣ!D12="Β'",2,IF(ΑΠΑΝΤΗΣΕΙΣ!D12="Γ'",3,IF(ΑΠΑΝΤΗΣΕΙΣ!D12="Δ'",4,"")))) | E12: =IF(ΑΠΑΝΤΗΣΕΙΣ!E12="Α",1,0) -> 0 | F12: =IF(ΑΠΑΝΤΗΣΕΙΣ!F12="Δ",1,0) -> 0 | G12: =IF(ΑΠΑΝΤΗΣΕΙΣ!G12="Γ",1,0) -> 0 | H12: =IF(ΑΠΑΝΤΗΣΕΙΣ!H12="Β",1,0) -> 0 | I12: =IF(ΑΠΑΝΤΗΣΕΙΣ!I12="Β",1,0) -> 0 | J12: =IF(ΑΠΑΝΤΗΣΕΙΣ!J12="Δ",1,0) -> 0 | K12: =IF(ΑΠΑΝΤΗΣΕΙΣ!K12="Β",1,0) -> 0 | L12: =IF(ΑΠΑΝΤΗΣΕΙΣ!L12="Α",1,0) -> 0 | M12: =IF(ΑΠΑΝΤΗΣΕΙΣ!M12="Δ",1,0) -> 0 | N12: =IF(ΑΠΑΝΤΗΣΕΙΣ!N12="Γ",1,0) -> 0 | O12: =IF(ΑΠΑΝΤΗΣΕΙΣ!O12="Β",1,0) -> 0 | P12: =IF(ΑΠΑΝΤΗΣΕΙΣ!P12="Α",1,0) -> 0 | Q12: =IF(ΑΠΑΝΤΗΣΕΙΣ!Q12="Γ",1,0) -> 0 | R12: =IF(ΑΠΑΝΤΗΣΕΙΣ!R12="Β",1,0) -> 0 | S12: =IF(ΑΠΑΝΤΗΣΕΙΣ!S12="Γ",1,0) -> 0 | T12: =IF(ΑΠΑΝΤΗΣΕΙΣ!T12="Δ",1,0) -> 0 | U12: =IF(ΑΠΑΝΤΗΣΕΙΣ!U12="Α",1,0) -> 0 | V12: =IF(ΑΠΑΝΤΗΣΕΙΣ!V12="Γ",1,0) -> 0 | W12: =IF(ΑΠΑΝΤΗΣΕΙΣ!W12="Α",1,0) -> 0 | X12: =IF(ΑΠΑΝΤΗΣΕΙΣ!X12="Γ",1,0) -> 0 | Y12: =IF(ΑΠΑΝΤΗΣΕΙΣ!Y12="Δ",1,0) -> 0 | Z12: =IF(ΑΠΑΝΤΗΣΕΙΣ!Z12="Β",1,0) -> 0 | AA12: =IF(ΑΠΑΝΤΗΣΕΙΣ!AA12="Α",1,0) -> 0 | AB12: =IF(ΑΠΑΝΤΗΣΕΙΣ!AB12="Β",1,0) -> 0 | AC12: =IF(ΑΠΑΝΤΗΣΕΙΣ!AC12="Γ",1,0) -> 0 | AD12: =SUM(E12:AC12) -> 0 | AE12: =SUM(E12:J12) -> 0 | AF12: =SUM(K12:V12) -> 0 | AG12: =SUM(W12:AC12) -> 0 | AI12: =SUM(K12:O12) -> 0 | AJ12: =SUM(P12:V12) -> 0 | AL12: =SUM(W12:X12) -> 0 | AM12: =SUM(Y12:AA12) -> 0 | AN12: =SUM(AB12:AC12) -> 0
A13: 10 | B13: =ΑΠΑΝΤΗΣΕΙΣ!B13 -> 0 | C13: =IF(ΑΠΑΝΤΗΣΕΙΣ!C13="ΑΓΟΡΙ",1,0) -> 0 | D13: =IF(ΑΠΑΝΤΗΣΕΙΣ!D13="Α'",1,IF(ΑΠΑΝΤΗΣΕΙΣ!D13="Β'",2,IF(ΑΠΑΝΤΗΣΕΙΣ!D13="Γ'",3,IF(ΑΠΑΝΤΗΣΕΙΣ!D13="Δ'",4,"")))) | E13: =IF(ΑΠΑΝΤΗΣΕΙΣ!E13="Α",1,0) -> 0 | F13: =IF(ΑΠΑΝΤΗΣΕΙΣ!F13="Δ",1,0) -> 0 | G13: =IF(ΑΠΑΝΤΗΣΕΙΣ!G13="Γ",1,0) -> 0 | H13: =IF(ΑΠΑΝΤΗΣΕΙΣ!H13="Β",1,0) -> 0 | I13: =IF(ΑΠΑΝΤΗΣΕΙΣ!I13="Β",1,0) -> 0 | J13: =IF(ΑΠΑΝΤΗΣΕΙΣ!J13="Δ",1,0) -> 0 | K13: =IF(ΑΠΑΝΤΗΣΕΙΣ!K13="Β",1,0) -> 0 | L13: =IF(ΑΠΑΝΤΗΣΕΙΣ!L13="Α",1,0) -> 0 | M13: =IF(ΑΠΑΝΤΗΣΕΙΣ!M13="Δ",1,0) -> 0 | N13: =IF(ΑΠΑΝΤΗΣΕΙΣ!N13="Γ",1,0) -> 0 | O13: =IF(ΑΠΑΝΤΗΣΕΙΣ!O13="Β",1,0) -> 0 | P13: =IF(ΑΠΑΝΤΗΣΕΙΣ!P13="Α",1,0) -> 0 | Q13: =IF(ΑΠΑΝΤΗΣΕΙΣ!Q13="Γ",1,0) -> 0 | R13: =IF(ΑΠΑΝΤΗΣΕΙΣ!R13="Β",1,0) -> 0 | S13: =IF(ΑΠΑΝΤΗΣΕΙΣ!S13="Γ",1,0) -> 0 | T13: =IF(ΑΠΑΝΤΗΣΕΙΣ!T13="Δ",1,0) -> 0 | U13: =IF(ΑΠΑΝΤΗΣΕΙΣ!U13="Α",1,0) -> 0 | V13: =IF(ΑΠΑΝΤΗΣΕΙΣ!V13="Γ",1,0) -> 0 | W13: =IF(ΑΠΑΝΤΗΣΕΙΣ!W13="Α",1,0) -> 0 | X13: =IF(ΑΠΑΝΤΗΣΕΙΣ!X13="Γ",1,0) -> 0 | Y13: =IF(ΑΠΑΝΤΗΣΕΙΣ!Y13="Δ",1,0) -> 0 | Z13: =IF(ΑΠΑΝΤΗΣΕΙΣ!Z13="Β",1,0) -> 0 | AA13: =IF(ΑΠΑΝΤΗΣΕΙΣ!AA13="Α",1,0) -> 0 | AB13: =IF(ΑΠΑΝΤΗΣΕΙΣ!AB13="Β",1,0) -> 0 | AC13: =IF(ΑΠΑΝΤΗΣΕΙΣ!AC13="Γ",1,0) -> 0 | AD13: =SUM(E13:AC13) -> 0 | AE13: =SUM(E13:J13) -> 0 | AF13: =SUM(K13:V13) -> 0 | AG13: =SUM(W13:AC13) -> 0 | AI13: =SUM(K13:O13) -> 0 | AJ13: =SUM(P13:V13) -> 0 | AL13: =SUM(W13:X13) -> 0 | AM13: =SUM(Y13:AA13) -> 0 | AN13: =SUM(AB13:AC13) -> 0
A14: 11 | B14: =ΑΠΑΝΤΗΣΕΙΣ!B14 -> 0 | C14: =IF(ΑΠΑΝΤΗΣΕΙΣ!C14="ΑΓΟΡΙ",1,0) -> 0 | D14: =IF(ΑΠΑΝΤΗΣΕΙΣ!D14="Α'",1,IF(ΑΠΑΝΤΗΣΕΙΣ!D14="Β'",2,IF(ΑΠΑΝΤΗΣΕΙΣ!D14="Γ'",3,IF(ΑΠΑΝΤΗΣΕΙΣ!D14="Δ'",4,"")))) | E14: =IF(ΑΠΑΝΤΗΣΕΙΣ!E14="Α",1,0) -> 0 | F14: =IF(ΑΠΑΝΤΗΣΕΙΣ!F14="Δ",1,0) -> 0 | G14: =IF(ΑΠΑΝΤΗΣΕΙΣ!G14="Γ",1,0) -> 0 | H14: =IF(ΑΠΑΝΤΗΣΕΙΣ!H14="Β",1,0) -> 0 | I14: =IF(ΑΠΑΝΤΗΣΕΙΣ!I14="Β",1,0) -> 0 | J14: =IF(ΑΠΑΝΤΗΣΕΙΣ!J14="Δ",1,0) -> 0 | K14: =IF(ΑΠΑΝΤΗΣΕΙΣ!K14="Β",1,0) -> 0 | L14: =IF(ΑΠΑΝΤΗΣΕΙΣ!L14="Α",1,0) -> 0 | M14: =IF(ΑΠΑΝΤΗΣΕΙΣ!M14="Δ",1,0) -> 0 | N14: =IF(ΑΠΑΝΤΗΣΕΙΣ!N14="Γ",1,0) -> 0 | O14: =IF(ΑΠΑΝΤΗΣΕΙΣ!O14="Β",1,0) -> 0 | P14: =IF(ΑΠΑΝΤΗΣΕΙΣ!P14="Α",1,0) -> 0 | Q14: =IF(ΑΠΑΝΤΗΣΕΙΣ!Q14="Γ",1,0) -> 0 | R14: =IF(ΑΠΑΝΤΗΣΕΙΣ!R14="Β",1,0) -> 0 | S14: =IF(ΑΠΑΝΤΗΣΕΙΣ!S14="Γ",1,0) -> 0 | T14: =IF(ΑΠΑΝΤΗΣΕΙΣ!T14="Δ",1,0) -> 0 | U14: =IF(ΑΠΑΝΤΗΣΕΙΣ!U14="Α",1,0) -> 0 | V14: =IF(ΑΠΑΝΤΗΣΕΙΣ!V14="Γ",1,0) -> 0 | W14: =IF(ΑΠΑΝΤΗΣΕΙΣ!W14="Α",1,0) -> 0 | X14: =IF(ΑΠΑΝΤΗΣΕΙΣ!X14="Γ",1,0) -> 0 | Y14: =IF(ΑΠΑΝΤΗΣΕΙΣ!Y14="Δ",1,0) -> 0 | Z14: =IF(ΑΠΑΝΤΗΣΕΙΣ!Z14="Β",1,0) -> 0 | AA14: =IF(ΑΠΑΝΤΗΣΕΙΣ!AA14="Α",1,0) -> 0 | AB14: =IF(ΑΠΑΝΤΗΣΕΙΣ!AB14="Β",1,0) -> 0 | AC14: =IF(ΑΠΑΝΤΗΣΕΙΣ!AC14="Γ",1,0) -> 0 | AD14: =SUM(E14:AC14) -> 0 | AE14: =SUM(E14:J14) -> 0 | AF14: =SUM(K14:V14) -> 0 | AG14: =SUM(W14:AC14) -> 0 | AI14: =SUM(K14:O14) -> 0 | AJ14: =SUM(P14:V14) -> 0 | AL14: =SUM(W14:X14) -> 0 | AM14: =SUM(Y14:AA14) -> 0 | AN14: =SUM(AB14:AC14) -> 0
A15: 12 | B15: =ΑΠΑΝΤΗΣΕΙΣ!B15 -> 0 | C15: =IF(ΑΠΑΝΤΗΣΕΙΣ!C15="ΑΓΟΡΙ",1,0) -> 0 | D15: =IF(ΑΠΑΝΤΗΣΕΙΣ!D15="Α'",1,IF(ΑΠΑΝΤΗΣΕΙΣ!D15="Β'",2,IF(ΑΠΑΝΤΗΣΕΙΣ!D15="Γ'",3,IF(ΑΠΑΝΤΗΣΕΙΣ!D15="Δ'",4,"")))) | E15: =IF(ΑΠΑΝΤΗΣΕΙΣ!E15="Α",1,0) -> 0 | F15: =IF(ΑΠΑΝΤΗΣΕΙΣ!F15="Δ",1,0) -> 0 | G15: =IF(ΑΠΑΝΤΗΣΕΙΣ!G15="Γ",1,0) -> 0 | H15: =IF(ΑΠΑΝΤΗΣΕΙΣ!H15="Β",1,0) -> 0 | I15: =IF(ΑΠΑΝΤΗΣΕΙΣ!I15="Β",1,0) -> 0 | J15: =IF(ΑΠΑΝΤΗΣΕΙΣ!J15="Δ",1,0) -> 0 | K15: =IF(ΑΠΑΝΤΗΣΕΙΣ!K15="Β",1,0) -> 0 | L15: =IF(ΑΠΑΝΤΗΣΕΙΣ!L15="Α",1,0) -> 0 | M15: =IF(ΑΠΑΝΤΗΣΕΙΣ!M15="Δ",1,0) -> 0 | N15: =IF(ΑΠΑΝΤΗΣΕΙΣ!N15="Γ",1,0) -> 0 | O15: =IF(ΑΠΑΝΤΗΣΕΙΣ!O15="Β",1,0) -> 0 | P15: =IF(ΑΠΑΝΤΗΣΕΙΣ!P15="Α",1,0) -> 0 | Q15: =IF(ΑΠΑΝΤΗΣΕΙΣ!Q15="Γ",1,0) -> 0 | R15: =IF(ΑΠΑΝΤΗΣΕΙΣ!R15="Β",1,0) -> 0 | S15: =IF(ΑΠΑΝΤΗΣΕΙΣ!S15="Γ",1,0) -> 0 | T15: =IF(ΑΠΑΝΤΗΣΕΙΣ!T15="Δ",1,0) -> 0 | U15: =IF(ΑΠΑΝΤΗΣΕΙΣ!U15="Α",1,0) -> 0 | V15: =IF(ΑΠΑΝΤΗΣΕΙΣ!V15="Γ",1,0) -> 0 | W15: =IF(ΑΠΑΝΤΗΣΕΙΣ!W15="Α",1,0) -> 0 | X15: =IF(ΑΠΑΝΤΗΣΕΙΣ!X15="Γ",1,0) -> 0 | Y15: =IF(ΑΠΑΝΤΗΣΕΙΣ!Y15="Δ",1,0) -> 0 | Z15: =IF(ΑΠΑΝΤΗΣΕΙΣ!Z15="Β",1,0) -> 0 | AA15: =IF(ΑΠΑΝΤΗΣΕΙΣ!AA15="Α",1,0) -> 0 | AB15: =IF(ΑΠΑΝΤΗΣΕΙΣ!AB15="Β",1,0) -> 0 | AC15: =IF(ΑΠΑΝΤΗΣΕΙΣ!AC15="Γ",1,0) -> 0 | AD15: =SUM(E15:AC15) -> 0 | AE15: =SUM(E15:J15) -> 0 | AF15: =SUM(K15:V15) -> 0 | AG15: =SUM(W15:AC15) -> 0 | AI15: =SUM(K15:O15) -> 0 | AJ15: =SUM(P15:V15) -> 0 | AL15: =SUM(W15:X15) -> 0 | AM15: =SUM(Y15:AA15) -> 0 | AN15: =SUM(AB15:AC15) -> 0
... A2003: 2000 | B2003: =ΑΠΑΝΤΗΣΕΙΣ!B2003 -> 0 | C2003: =IF(ΑΠΑΝΤΗΣΕΙΣ!C2003="ΑΓΟΡΙ",1,0) -> 0 | D2003: =IF(ΑΠΑΝΤΗΣΕΙΣ!D2003="Α'",1,IF(ΑΠΑΝΤΗΣΕΙΣ!D2003="Β'",2,IF(ΑΠΑΝΤΗΣΕΙΣ!D2003="Γ'",3,IF(ΑΠΑΝΤΗΣΕΙΣ!D2003="Δ'",4,"")))) | E2003: =IF(ΑΠΑΝΤΗΣΕΙΣ!E2003="Α",1,0) -> 0 | F2003: =IF(ΑΠΑΝΤΗΣΕΙΣ!F2003="Δ",1,0) -> 0 | G2003: =IF(ΑΠΑΝΤΗΣΕΙΣ!G2003="Γ",1,0) -> 0 | H2003: =IF(ΑΠΑΝΤΗΣΕΙΣ!H2003="Β",1,0) -> 0 | I2003: =IF(ΑΠΑΝΤΗΣΕΙΣ!I2003="Β",1,0) -> 0 | J2003: =IF(ΑΠΑΝΤΗΣΕΙΣ!J2003="Δ",1,0) -> 0 | K2003: =IF(ΑΠΑΝΤΗΣΕΙΣ!K2003="Β",1,0) -> 0 | L2003: =IF(ΑΠΑΝΤΗΣΕΙΣ!L2003="Α",1,0) -> 0 | M2003: =IF(ΑΠΑΝΤΗΣΕΙΣ!M2003="Δ",1,0) -> 0 | N2003: =IF(ΑΠΑΝΤΗΣΕΙΣ!N2003="Γ",1,0) -> 0 | O2003: =IF(ΑΠΑΝΤΗΣΕΙΣ!O2003="Β",1,0) -> 0 | P2003: =IF(ΑΠΑΝΤΗΣΕΙΣ!P2003="Α",1,0) -> 0 | Q2003: =IF(ΑΠΑΝΤΗΣΕΙΣ!Q2003="Γ",1,0) -> 0 | R2003: =IF(ΑΠΑΝΤΗΣΕΙΣ!R2003="Β",1,0) -> 0 | S2003: =IF(ΑΠΑΝΤΗΣΕΙΣ!S2003="Γ",1,0) -> 0 | T2003: =IF(ΑΠΑΝΤΗΣΕΙΣ!T2003="Δ",1,0) -> 0 | U2003: =IF(ΑΠΑΝΤΗΣΕΙΣ!U2003="Α",1,0) -> 0 | V2003: =IF(ΑΠΑΝΤΗΣΕΙΣ!V2003="Γ",1,0) -> 0 | W2003: =IF(ΑΠΑΝΤΗΣΕΙΣ!W2003="Α",1,0) -> 0 | X2003: =IF(ΑΠΑΝΤΗΣΕΙΣ!X2003="Γ",1,0) -> 0 | Y2003: =IF(ΑΠΑΝΤΗΣΕΙΣ!Y2003="Δ",1,0) -> 0 | Z2003: =IF(ΑΠΑΝΤΗΣΕΙΣ!Z2003="Β",1,0) -> 0 | AA2003: =IF(ΑΠΑΝΤΗΣΕΙΣ!AA2003="Α",1,0) -> 0 | AB2003: =IF(ΑΠΑΝΤΗΣΕΙΣ!AB2003="Β",1,0) -> 0 | AC2003: =IF(ΑΠΑΝΤΗΣΕΙΣ!AC2003="Γ",1,0) -> 0 | AD2003: =SUM(E2003:AC2003) -> 0 | AE2003: =SUM(E2003:J2003) -> 0 | AF2003: =SUM(K2003:V2003) -> 0 | AG2003: =SUM(W2003:AC2003) -> 0 | AI2003: =SUM(K2003:O2003) -> 0 | AJ2003: =SUM(P2003:V2003) -> 0 | AL2003: =SUM(W2003:X2003) -> 0 | AM2003: =SUM(Y2003:AA2003) -> 0 | AN2003: =SUM(AB2003:AC2003) -> 0
